View In:
ArcGIS JavaScript
Portal Corporativo
ArcGIS Earth
ArcMap
ArcGIS Pro
View Footprint In:
Portal Corporativo
Service Description: Mapa Base de Galicia
Map Name: MAPABase_ETRS89_29N
Legend
All Layers and Tables
Dynamic Legend
Dynamic All Layers
Layers:
Description:
Copyright Text:
Spatial Reference:
25829
(25829)
Single Fused Map Cache: true
Tile Info:
- Height: 256
- Width: 256
- DPI: 96
-
Levels of Detail: 14
-
Level ID: 0
[ Start Tile, End Tile ]
- Resolution: 4891.96981024998
- Scale: 1.8489297737236E7
- Format: PNG
- Compression Quality: 0.0
- Origin: X: -5120900.0
Y: 9998100.0
- Spatial Reference: 25829
(25829)
Initial Extent:
XMin: 405758.9991588432
YMin: 4580666.140143708
XMax: 762021.5704360546
YMax: 4897886.237856294
Spatial Reference: 25829
(25829)
Full Extent:
XMin: 475443.3881999999
YMin: 4628906.1195
XMax: 686706.0554
YMax: 4849646.2585
Spatial Reference: 25829
(25829)
Units: esriMeters
Supported Image Format Types: PNG32,PNG24,PNG,JPG,DIB,TIFF,EMF,PS,PDF,GIF,SVG,SVGZ,BMP
Document Info:
Title: ICA_Topografico_r_ETRS89_30N
Author: abbr
Comments: Mapa Base de Galicia
Subject: Mapa Base de Galicia
Category:
Keywords: Mapa Base
AntialiasingMode: None
TextAntialiasingMode: Force
Supports Dynamic Layers: true
MaxRecordCount: 1000
MaxImageHeight: 4096
MaxImageWidth: 4096
Supported Query Formats: JSON, geoJSON
Supports Query Data Elements:
Min Scale: 1.8489297737236E7
Max Scale: 2256.994353
Supports Datum Transformation: true
Child Resources:
Info
Dynamic Layer
Supported Operations:
Export Map
Return Updates