View In:
  ArcGIS JavaScript
  Portal Corporativo
  ArcGIS Earth
  ArcMap
  ArcGIS Pro
View Footprint In:
  Portal Corporativo
Service Description:  IV Inventario Forestal Nacional, 2010. Grupo combustible
Map Name:  Capas
Legend
All Layers and Tables
Dynamic Legend
Dynamic All Layers
Layers: 
Description:  
Copyright Text:   
Spatial Reference: 
25829
 (25829)
Single Fused Map Cache:  true
Tile Info: 
- Height: 256
- Width: 256
- DPI: 96
- 
Levels of Detail:  14
- 
Level ID: 0
[ Start Tile, End Tile ]
- Resolution: 4891.96981024998
- Scale: 1.8489297737236E7
- Format: MIXED
- Compression Quality: 75.0
- Origin: X:  -5120900.0
 Y:  9998100.0
 
- Spatial Reference: 25829
 (25829)
 
Initial Extent:
XMin: 474614.5686673038
YMin: 4664534.646385063
XMax: 687531.4080326962
YMax: 4860557.580360002
Spatial Reference: 25829
 (25829)
Full Extent:
XMin: 475439.9833
YMin: 4628906.3019
XMax: 686705.9934
YMax: 4849526.5671
Spatial Reference: 25829
 (25829)
Units: esriMeters
Supported Image Format Types:  PNG32,PNG24,PNG,JPG,DIB,TIFF,EMF,PS,PDF,GIF,SVG,SVGZ,BMP
Document Info: 
Title: 
Author: 
Comments: Modelo combustible, Grupo combustible, Cantidade Combustible
Subject: Modelo combustible, Grupo combustible, Cantidade Combustible
Category: 
Keywords: IV Inventario Forestal Nacional,2010. Grupo combustible
AntialiasingMode: None
TextAntialiasingMode: Force
Supports Dynamic Layers: true
Resampling:  false
MaxRecordCount:  1000
MaxImageHeight:  4096
MaxImageWidth:  4096
Supported Query Formats:  JSON, geoJSON
Supports Query Data Elements:  
Min Scale:  1.8489297737236E7
Max Scale:  2256.994353
Supports Datum Transformation:  true
Child Resources:
  
Info
  Dynamic Layer
 
Supported Operations:
  
Export Map
  Identify
  QueryLegends
  QueryDomains
  Find
  Return Updates