View In:
  ArcGIS JavaScript
  Portal Corporativo
  ArcGIS Earth
  ArcMap
View Footprint In:
  Portal Corporativo
Service Description:  Servicio de imaxes (COG- 10cm) dinámico da ortofotografía do PNOA10 do ano 2022 de Poio
Name:  Raster/PNOA10_2022_Poio
Description:  Servicio de imaxes (COG- 10cm) dinámico da ortofotografía do PNOA10 do ano 2022 de Poio
Single Fused Map Cache:  false
Extent: 
XMin: 519000
YMin: 4694000
XMax: 528999.9999627471
YMax: 4703999.999962747
Spatial Reference: 25829
 (25829)
Initial Extent: 
XMin: 519000
YMin: 4694000
XMax: 528999.9999627471
YMax: 4703999.999962747
Spatial Reference: 25829
 (25829)
Full Extent: 
XMin: 519000
YMin: 4694000
XMax: 528999.9999627471
YMax: 4703999.999962747
Spatial Reference: 25829
 (25829)
Pixel Size X:  0.09999999962747097
Pixel Size Y:  0.09999999962747097
Band Count: 4
Pixel Type: U8
RasterFunction Infos:  {"rasterFunctionInfos": [{
 "name": "None",
 "description": "",
 "help": ""
}]}
Mensuration Capabilities: Basic
Has Histograms:  true
Has Colormap:  false
Has Multi Dimensions :  false
Rendering Rule: 
Min Scale:  0
Max Scale:  0
Copyright Text:  
Service Data Type:  esriImageServiceDataTypeGeneric
Min Values:  0, 7, 17, 21
Max Values:  254, 253, 255, 255
Mean Values:  77.30461666666356, 78.15775555555207, 74.30586296296477, 171.40083703703274
Standard Deviation Values:  39.495512299831645, 33.37601953161578, 31.043868051982574, 42.5756766917343
Object ID Field:  OBJECTID
Fields: 
- 
OBJECTID
(
type: esriFieldTypeOID, alias: OBJECTID
)
 
- 
Shape
(
type: esriFieldTypeGeometry, alias: Shape
)
 
- 
Name
(
type: esriFieldTypeString, alias: Name, length: 200
)
 
- 
MinPS
(
type: esriFieldTypeDouble, alias: MinPS
)
 
- 
MaxPS
(
type: esriFieldTypeDouble, alias: MaxPS
)
 
- 
LowPS
(
type: esriFieldTypeDouble, alias: LowPS
)
 
- 
HighPS
(
type: esriFieldTypeDouble, alias: HighPS
)
 
- 
Category
(
type: esriFieldTypeInteger, alias: Category
, Coded Values: 
[0: Unknown]
, [1: Primary]
, [2: Overview]
, ...6 more...
)
 
- 
Tag
(
type: esriFieldTypeString, alias: Tag, length: 100
)
 
- 
GroupName
(
type: esriFieldTypeString, alias: GroupName, length: 100
)
 
- 
ProductName
(
type: esriFieldTypeString, alias: ProductName, length: 100
)
 
- 
CenterX
(
type: esriFieldTypeDouble, alias: CenterX
)
 
- 
CenterY
(
type: esriFieldTypeDouble, alias: CenterY
)
 
- 
ZOrder
(
type: esriFieldTypeInteger, alias: ZOrder
)
 
- 
Shape_Length
(
type: esriFieldTypeDouble, alias: Shape_Length
)
 
- 
Shape_Area
(
type: esriFieldTypeDouble, alias: Shape_Area
)
 
- 
Thumbnail
(
type: esriFieldTypeBlob, alias: Thumbnail
)
 
Default Mosaic Method:  Northwest
Allowed Mosaic Methods:  NorthWest,Center,LockRaster,ByAttribute,Nadir,Viewpoint,Seamline,None
SortField:  
SortValue:  null
Mosaic Operator:  First
Default Compression Quality:  75
Default Resampling Method:  Bilinear
Max Record Count:  1000
Max Image Height:  4100
Max Image Width:  15000
Max Download Image Count:  20
Max Mosaic Image Count:  20
Allow Raster Function:  true
Allow Copy:  null
Allow Analysis:  null
Allow Compute TiePoints:  false
Supports Statistics:  true
Supports Advanced Queries:  true
Use StandardizedQueries:  true
Raster Type Infos: 
Name: Raster Dataset
Description: Supports all ArcGIS Raster Datasets
Help: 
Has Raster Attribute Table:  false
Edit Fields Info:  null
Ownership Based AccessControl For Rasters:  null
Child Resources:
  
Info
  Histograms
  Key Properties
  Legend
  Raster Function Infos
Supported Operations:
  
Export Image
  Query
  Identify
  Download Rasters
  Measure
  Compute Histograms
  Compute Statistics Histograms
  Get Samples
  Compute Class Statistics
  Query Boundary
  Compute Pixel Location
  Compute Angles
  Validate
  Project