View In:
ArcGIS JavaScript
Portal Corporativo
ArcGIS Earth
ArcMap
ArcGIS Pro
View Footprint In:
Portal Corporativo
Service Description: Pleiades 2014
Map Name: Layers
Legend
All Layers and Tables
Dynamic Legend
Dynamic All Layers
Layers:
Description:
Copyright Text:
Spatial Reference:
25829
(25829)
Single Fused Map Cache: true
Tile Info:
- Height: 256
- Width: 256
- DPI: 96
-
Levels of Detail: 14
-
Level ID: 0
[ Start Tile, End Tile ]
- Resolution: 4891.96981024998
- Scale: 1.8489297737236E7
- Format: MIXED
- Compression Quality: 75.0
- Origin: X: -5120900.0
Y: 9998100.0
- Spatial Reference: 25829
(25829)
Initial Extent:
XMin: 463425.7345697123
YMin: 4658349.903667622
XMax: 700724.6332590308
YMax: 4898601.199230214
Spatial Reference: 25829
(25829)
Full Extent:
XMin: 503630.97625791293
YMin: 4629171.694320754
XMax: 707333.9762594259
YMax: 4840661.781481621
Spatial Reference: 25829
(25829)
Units: esriMeters
Supported Image Format Types: PNG32,PNG24,PNG,JPG,DIB,TIFF,EMF,PS,PDF,GIF,SVG,SVGZ,BMP
Document Info:
Title:
Author:
Comments: Pleiades 2014
Subject: Pleiades 2014
Category:
Keywords: Pleiades 2014
AntialiasingMode: None
TextAntialiasingMode: Force
Supports Dynamic Layers: true
MaxRecordCount: 1000
MaxImageHeight: 4096
MaxImageWidth: 4096
Supported Query Formats: JSON, geoJSON
Supports Query Data Elements:
Min Scale: 1.8489297737236E7
Max Scale: 2256.994353
Supports Datum Transformation: true
Child Resources:
Info
Dynamic Layer
Supported Operations:
Export Map
Identify
QueryDomains
QueryLegends
Find
Return Updates