View In:
  ArcGIS JavaScript
  Portal Corporativo
  ArcGIS Earth
  ArcMap
  ArcGIS Pro
View Footprint In:
  Portal Corporativo
Service Description:  Servizo web de mapas da ortofotografía do PNOA 2017
Map Name:  Capas
Legend
All Layers and Tables
Layers: 
Description:  
Copyright Text:   
Spatial Reference: 
25829
 (25829)
Single Fused Map Cache:  true
Tile Info: 
- Height: 256
 
- Width: 256
 
- DPI: 96
 
- 
Levels of Detail:  14
- 
Level ID: 0
[ Start Tile, End Tile ]
 
- Resolution: 4891.96981024998
 
- Scale: 1.8489297737236E7
- Format: MIXED
 
- Compression Quality: 75.0
 
- Origin: X:  -5120900.0
Y:  9998100.0
 
- Spatial Reference: 25829
 (25829)
 
Initial Extent: 
XMin: 463771.4999999999
YMin: 4592660.662447257
XMax: 698038.4999999999
YMax: 4883929.337552743
Spatial Reference: 25829
 (25829)
Full Extent: 
XMin: 474420
YMin: 4626910
XMax: 687390
YMax: 4849680
Spatial Reference: 25829
 (25829)
Units:  esriMeters
Supported Image Format Types:  PNG32,PNG24,PNG,JPG,DIB,TIFF,EMF,PS,PDF,GIF,SVG,SVGZ,BMP
Document Info: 
Title: 
Author: 
Comments: Servizo web de mapas da ortofotografía do PNOA Última Cobertura
Subject: Servizo web de mapas da ortofotografía do PNOA Última Cobertura
Category: 
Keywords: ESPAÑA ,Galicia,ortofotografia,PNOA
AntialiasingMode: None
TextAntialiasingMode: Force
Supports Dynamic Layers:  false
Resampling:  false
MaxRecordCount:  1000
MaxImageHeight:  4096
MaxImageWidth:  4096
Supported Query Formats:  JSON, geoJSON
Supports Query Data Elements:  
Min Scale:  1.8489297737236E7
Max Scale:  1000
Supports Datum Transformation:  true
Child Resources:
  
Info
 
Supported Operations:
  
Export Map
  QueryLegends
  Return Updates