View In:
ArcGIS JavaScript
Portal Corporativo
ArcGIS Earth
ArcMap
ArcGIS Pro
View Footprint In:
Portal Corporativo
Service Description: Servizo web de mapas da ortofotografía do PNOA10 do ano 2018 de Pontevedra
Map Name: Layers
Legend
All Layers and Tables
Dynamic Legend
Dynamic All Layers
Layers:
Description:
Copyright Text:
Spatial Reference:
25829
(25829)
Single Fused Map Cache: true
Tile Info:
- Height: 256
- Width: 256
- DPI: 96
-
Levels of Detail: 17
-
Level ID: 0
[ Start Tile, End Tile ]
- Resolution: 4891.96981024998
- Scale: 1.8489297737236E7
-
Level ID: 16
[ Start Tile, End Tile ]
- Resolution: 0.07464553543474244
- Scale: 282.1242940863177
- Format: MIXED
- Compression Quality: 75.0
- Origin: X: -5120900.0
Y: 9998100.0
- Spatial Reference: 25829
(25829)
Initial Extent:
XMin: 523822.73090882256
YMin: 4694361.009761893
XMax: 534177.2483759273
YMax: 4700667.320400051
Spatial Reference: 25829
(25829)
Full Extent:
XMin: 524958.1646423752
YMin: 4693999.990080972
XMax: 533041.8146423752
YMax: 4701028.340080972
Spatial Reference: 25829
(25829)
Units: esriMeters
Supported Image Format Types: PNG32,PNG24,PNG,JPG,DIB,TIFF,EMF,PS,PDF,GIF,SVG,SVGZ,BMP
Document Info:
Title:
Author:
Comments: Servizo web de mapas da ortofotografía do PNOA10 do ano 2018 de Pontevedra
Subject: Servizo web de mapas da ortofotografía do PNOA10 do ano 2018 de Pontevedra
Category:
Keywords: ESPAÑA ,Galicia,ortofotografia,PNOA
AntialiasingMode: None
TextAntialiasingMode: Force
Supports Dynamic Layers: true
MaxRecordCount: 1000
MaxImageHeight: 4096
MaxImageWidth: 4096
Supported Query Formats: JSON, geoJSON
Supports Query Data Elements:
Min Scale: 1.8489297737236E7
Max Scale: 282.1242940863177
Supports Datum Transformation: true
Child Resources:
Info
Dynamic Layer
Supported Operations:
Export Map
Identify
QueryLegends
QueryDomains
Find
Return Updates