View In:
ArcGIS JavaScript
Portal Corporativo
ArcGIS Earth
ArcMap
ArcGIS Pro
View Footprint In:
Portal Corporativo
Service Description: Ortofoto Plan Básico Municipal 2018
Map Name: Layers
Legend
All Layers and Tables
Dynamic Legend
Dynamic All Layers
Layers:
Description:
Copyright Text:
Spatial Reference:
25829
(25829)
Single Fused Map Cache: true
Tile Info:
- Height: 256
- Width: 256
- DPI: 96
-
Levels of Detail: 15
-
Level ID: 0
[ Start Tile, End Tile ]
- Resolution: 4891.96981024998
- Scale: 1.8489297737236E7
- Format: MIXED
- Compression Quality: 75.0
- Origin: X: -5120900.0
Y: 9998100.0
- Spatial Reference: 25829
(25829)
Initial Extent:
XMin: 539610.1341932218
YMin: 4706185.245717536
XMax: 705183.2767270121
YMax: 4824694.063484999
Spatial Reference: 25829
(25829)
Full Extent:
XMin: 566020.9500000009
YMin: 4648838.850000007
XMax: 655452.2999999806
YMax: 4816320.0057
Spatial Reference: 25829
(25829)
Units: esriMeters
Supported Image Format Types: PNG32,PNG24,PNG,JPG,DIB,TIFF,EMF,PS,PDF,GIF,SVG,SVGZ,BMP
Document Info:
Title:
Author:
Comments: Ortofoto Plan Básico Autonómico 2018
Subject: Ortofoto Plan Básico Autonómico 2018
Category:
Keywords: Ortofoto,Plan Básico Municipal,2018,PBM
AntialiasingMode: None
TextAntialiasingMode: Force
Supports Dynamic Layers: true
MaxRecordCount: 1000
MaxImageHeight: 4096
MaxImageWidth: 4096
Supported Query Formats: JSON, geoJSON
Supports Query Data Elements:
Min Scale: 1.8489297737236E7
Max Scale: 1128.49722
Supports Datum Transformation: true
Child Resources:
Info
Dynamic Layer
Supported Operations:
Export Map
Identify
QueryDomains
QueryLegends
Find
Return Updates