View In:
ArcGIS JavaScript
Portal Corporativo
ArcGIS Earth
ArcMap
ArcGIS Pro
View Footprint In:
Portal Corporativo
Service Description: Mapa Base Ortofotos PNOA 2004-2005 (Coruña e Pontevedra) e PNOA 2006-2007 (Lugo e Ourense)
Map Name: Capas
Legend
All Layers and Tables
Layers:
Description:
Copyright Text:
Spatial Reference:
25829
(25829)
Single Fused Map Cache: true
Tile Info:
- Height: 256
- Width: 256
- DPI: 96
-
Levels of Detail: 14
-
Level ID: 0
[ Start Tile, End Tile ]
- Resolution: 4891.96981024998
- Scale: 1.8489297737236E7
- Format: JPEG
- Compression Quality: 75.0
- Origin: X: -5120900.0
Y: 9998100.0
- Spatial Reference: 25829
(25829)
Initial Extent:
XMin: 291000
YMin: 4489259.770710061
XMax: 868605.0000000019
YMax: 4966040.229289944
Spatial Reference: 25829
(25829)
Full Extent:
XMin: 291000
YMin: 4569700.000000002
XMax: 868605.0000000019
YMax: 4885600.000000002
Spatial Reference: 25829
(25829)
Units: esriMeters
Supported Image Format Types: PNG32,PNG24,PNG,JPG,DIB,TIFF,EMF,PS,PDF,GIF,SVG,SVGZ,BMP
Document Info:
Title:
Author:
Comments: Mapa Base Ortofotos PNOA 2004-2005 (Coruña e Pontevedra) e PNOA 2006-2007 (Lugo e Ourense)
Subject: Mapa Base Ortofotos PNOA 2004-2005 (Co-Po) e PNOA 2006-2007 (Lu-Ou)
Category:
Keywords: mapa base,ortofoto
AntialiasingMode: None
TextAntialiasingMode: Force
Supports Dynamic Layers: false
MaxRecordCount: 1000
MaxImageHeight: 4096
MaxImageWidth: 4096
Supported Query Formats: JSON, geoJSON
Supports Query Data Elements:
Min Scale: 1.8489297737236E7
Max Scale: 2256.994353
Supports Datum Transformation: true
Child Resources:
Info
Supported Operations:
Export Map
Identify
QueryDomains
QueryLegends
Find
Return Updates