View In:
ArcGIS JavaScript
Portal Corporativo
ArcGIS Earth
ArcMap
ArcGIS Pro
View Footprint In:
Portal Corporativo
Service Description:
Map Name: Mapa
Legend
All Layers and Tables
Dynamic Legend
Dynamic All Layers
Layers:
Description:
Service Item Id: 6af5095b4c004744977a6a269fdaad08
Copyright Text:
Spatial Reference:
25829
(25829)
Single Fused Map Cache: true
Tile Info:
- Height: 256
- Width: 256
- DPI: 96
-
Levels of Detail: 17
-
Level ID: 0
[ Start Tile, End Tile ]
- Resolution: 4891.96981024998
- Scale: 1.8489297737236E7
-
Level ID: 16
[ Start Tile, End Tile ]
- Resolution: 0.07464553543474244
- Scale: 282.1242940863177
- Format: MIXED
- Compression Quality: 75.0
- Origin: X: -5120900.0
Y: 9998100.0
- Spatial Reference: 25829
(25829)
Storage Info:
- Storage Format: esriMapCacheStorageModeCompactV2
- Packet Size: 128
Initial Extent:
XMin: 508359.41281568253
YMin: 4702695.222271103
XMax: 511538.7672012359
YMax: 4705031.2585430425
Spatial Reference: 25829
(25829)
Full Extent:
XMin: 475439.98330000043
YMin: 4634939.9475
XMax: 659115.2369999997
YMax: 4849526.5671
Spatial Reference: 25829
(25829)
Units: esriMeters
Supported Image Format Types: PNG32,PNG24,PNG,JPG,DIB,TIFF,EMF,PS,PDF,GIF,SVG,SVGZ,BMP
Document Info:
Title: Mapa
Author:
Comments:
Subject:
Category:
Keywords: SIOSE5K
AntialiasingMode: Fast
TextAntialiasingMode: Force
Supports Dynamic Layers: true
MaxRecordCount: 2000
MaxImageHeight: 4096
MaxImageWidth: 4096
Supported Query Formats: JSON, geoJSON, PBF
Supports Query Data Elements: true
Min Scale: 1155581.108577
Max Scale: 18055.954822
Supports Datum Transformation: true
Child Resources:
Info
Dynamic Layer
Supported Operations:
Export Map
Identify
QueryLegends
QueryDomains
Find
Return Updates