View In:
ArcGIS JavaScript
Portal Corporativo
ArcGIS Earth
ArcMap
View Footprint In:
Portal Corporativo
Service Description: Galicia 1900. Provincia de Lugo
Name: Cartoteca/Provincia_Lugo_1900
Description: Galicia 1900. Provincia de Lugo
Single Fused Map Cache: false
Extent:
XMin: 555757.1987083445
YMin: 4664951.61705184
XMax: 718862.25673051
YMax: 4877020.642632642
Spatial Reference: 25829
(25829)
Initial Extent:
XMin: 555757.1987083445
YMin: 4664951.61705184
XMax: 718862.25673051
YMax: 4877020.642632642
Spatial Reference: 25829
(25829)
Full Extent:
XMin: 555757.1987083445
YMin: 4664951.61705184
XMax: 718862.25673051
YMax: 4877020.642632642
Spatial Reference: 25829
(25829)
Pixel Size X: 36.06125536638637
Pixel Size Y: 35.6238914128678
Band Count: 3
Pixel Type: U8
RasterFunction Infos: {"rasterFunctionInfos": [{
"name": "None",
"description": "",
"help": ""
}]}
Mensuration Capabilities: Basic
Has Histograms: false
Has Colormap: false
Has Multi Dimensions : false
Rendering Rule:
Min Scale: 0
Max Scale: 0
Copyright Text:
Service Data Type: esriImageServiceDataTypeRGB
Min Values: N/A
Max Values: N/A
Mean Values: N/A
Standard Deviation Values: N/A
Object ID Field:
Fields:
None
Default Mosaic Method: Center
Allowed Mosaic Methods:
SortField:
SortValue: null
Mosaic Operator: First
Default Compression Quality: 75
Default Resampling Method: Bilinear
Max Record Count: null
Max Image Height: 4100
Max Image Width: 15000
Max Download Image Count: null
Max Mosaic Image Count: null
Allow Raster Function: true
Allow Copy: null
Allow Analysis: null
Allow Compute TiePoints: false
Supports Statistics: false
Supports Advanced Queries: false
Use StandardizedQueries: true
Raster Type Infos:
Name: Raster Dataset
Description: Supports all ArcGIS Raster Datasets
Help:
Has Raster Attribute Table: false
Edit Fields Info: null
Ownership Based AccessControl For Rasters: null
Child Resources:
Info
Key Properties
Legend
Raster Function Infos
Supported Operations:
Export Image
Identify
Measure
Compute Histograms
Compute Statistics Histograms
Get Samples
Compute Class Statistics
Query Boundary
Compute Pixel Location
Compute Angles
Validate
Project