View In:
ArcGIS JavaScript
Portal Corporativo
ArcGIS Earth
ArcMap
View Footprint In:
Portal Corporativo
Service Description: A colección cartográfica de Rodolfo Nuñez de las Cuevas pretende recoller exemplos variados e representativos de distintas épocas, ámbitos, contornas históricas e tipos de cartografía e técnicas utilizadas para a mesma, co fin de dar unha visión xeral e ao mesmo tempo instrutiva, tanto da colección en si mesma como do mundo da cartografía
Name: Cartoteca/ColeccionNunezDeLasCuevas
Description: A colección cartográfica de Rodolfo Nuñez de las Cuevas pretende recoller exemplos variados e representativos de distintas épocas, ámbitos, contornas históricas e tipos de cartografía e técnicas utilizadas para a mesma, co fin de dar unha visión xeral e ao mesmo tempo instrutiva, tanto da colección en si mesma como do mundo da cartografía
Single Fused Map Cache: false
Extent:
XMin: 509436.60531159816
YMin: 4645146.018956117
XMax: 740231.9206640744
YMax: 4820485.537075433
Spatial Reference: 25829
(25829)
Initial Extent:
XMin: 509436.60531159816
YMin: 4645146.018956117
XMax: 740231.9206640744
YMax: 4820485.537075433
Spatial Reference: 25829
(25829)
Full Extent:
XMin: 509436.60531159816
YMin: 4645146.018956117
XMax: 740231.9206640744
YMax: 4820485.537075433
Spatial Reference: 25829
(25829)
Pixel Size X: 3.94899930450476
Pixel Size Y: 3.948999304504755
Band Count: 3
Pixel Type: U8
RasterFunction Infos: {"rasterFunctionInfos": [{
"name": "None",
"description": "A No-Op Function.",
"help": ""
}]}
Mensuration Capabilities: None
Has Histograms: true
Has Colormap: false
Has Multi Dimensions : false
Rendering Rule:
Min Scale: 0
Max Scale: 0
Copyright Text:
Service Data Type: esriImageServiceDataTypeRGB
Min Values: 32, 93, 64
Max Values: 255, 255, 255
Mean Values: 232.27392317998147, 212.92347536210525, 183.3529269038845
Standard Deviation Values: 23.314217998776062, 18.504311895365273, 19.224740278389458
Object ID Field: OBJECTID
Fields:
-
OBJECTID
(
type: esriFieldTypeOID, alias: OBJECTID
)
-
Shape
(
type: esriFieldTypeGeometry, alias: Shape
)
-
Name
(
type: esriFieldTypeString, alias: Name, length: 200
)
-
MinPS
(
type: esriFieldTypeDouble, alias: MinPS
)
-
MaxPS
(
type: esriFieldTypeDouble, alias: MaxPS
)
-
LowPS
(
type: esriFieldTypeDouble, alias: LowPS
)
-
HighPS
(
type: esriFieldTypeDouble, alias: HighPS
)
-
Category
(
type: esriFieldTypeInteger, alias: Category
, Coded Values:
[0: Unknown]
, [1: Primary]
, [2: Overview]
, ...6 more...
)
-
Tag
(
type: esriFieldTypeString, alias: Tag, length: 100
)
-
GroupName
(
type: esriFieldTypeString, alias: GroupName, length: 100
)
-
ProductName
(
type: esriFieldTypeString, alias: ProductName, length: 100
)
-
CenterX
(
type: esriFieldTypeDouble, alias: CenterX
)
-
CenterY
(
type: esriFieldTypeDouble, alias: CenterY
)
-
ZOrder
(
type: esriFieldTypeInteger, alias: ZOrder
)
-
Shape_Length
(
type: esriFieldTypeDouble, alias: Shape_Length
)
-
Shape_Area
(
type: esriFieldTypeDouble, alias: Shape_Area
)
-
Descricion
(
type: esriFieldTypeString, alias: Descricion, length: 500
)
Default Mosaic Method: Northwest
Allowed Mosaic Methods: NorthWest,Center,LockRaster,ByAttribute,Nadir,Viewpoint,Seamline,None
SortField:
SortValue: null
Mosaic Operator: First
Default Compression Quality: 75
Default Resampling Method: Bilinear
Max Record Count: 1000
Max Image Height: 4100
Max Image Width: 15000
Max Download Image Count: 20
Max Mosaic Image Count: 20
Allow Raster Function: true
Allow Copy: null
Allow Analysis: null
Allow Compute TiePoints: false
Supports Statistics: true
Supports Advanced Queries: true
Use StandardizedQueries: true
Raster Type Infos:
Name: Raster Dataset
Description: Supports all ArcGIS Raster Datasets
Help:
Has Raster Attribute Table: false
Edit Fields Info: null
Ownership Based AccessControl For Rasters: null
Child Resources:
Info
Histograms
Key Properties
Legend
Raster Function Infos
Supported Operations:
Export Image
Query
Identify
Download Rasters
Compute Histograms
Compute Statistics Histograms
Get Samples
Compute Class Statistics
Query Boundary
Compute Pixel Location
Compute Angles
Validate
Project