View In:
ArcGIS JavaScript
Portal Corporativo
ArcGIS Earth
ArcMap
View Footprint In:
Portal Corporativo
Service Description: Colección cartográfica Carlos Martínez Barbeito y Morás. Arquivo do Reino de Galicia. Rede de Bibliotecas Públicas de Galicia
Name: Cartoteca/ColeccionMartinezBarbeito
Description: Colección cartográfica Carlos Martínez Barbeito y Morás. Arquivo do Reino de Galicia. Rede de Bibliotecas Públicas de Galicia
Single Fused Map Cache: false
Extent:
XMin: 2.608543145470321E-4
YMin: -0.0032277144491672516
XMax: 2260871.065260854
YMax: 5969143.266772286
Spatial Reference: 25829
(25829)
Initial Extent:
XMin: 2.608543145470321E-4
YMin: -0.0032277144491672516
XMax: 2260871.065260854
YMax: 5969143.266772286
Spatial Reference: 25829
(25829)
Full Extent:
XMin: 2.608543145470321E-4
YMin: -0.0032277144491672516
XMax: 2260871.065260854
YMax: 5969143.266772286
Spatial Reference: 25829
(25829)
Pixel Size X: 0.005
Pixel Size Y: 0.005
Band Count: 3
Pixel Type: U8
RasterFunction Infos: {"rasterFunctionInfos": [{
"name": "None",
"description": "",
"help": ""
}]}
Mensuration Capabilities: None
Has Histograms: true
Has Colormap: false
Has Multi Dimensions : false
Rendering Rule:
Min Scale: 0
Max Scale: 0
Copyright Text: IET, Xunta de Galicia
Service Data Type: esriImageServiceDataTypeRGB
Min Values: 0, 0, 0
Max Values: 255, 255, 219
Mean Values: 141.01613673535823, 128.65442590775345, 103.89176316650193
Standard Deviation Values: 102.56540779212837, 95.19417740846222, 80.61825927807166
Object ID Field: OBJECTID
Fields:
-
OBJECTID
(
type: esriFieldTypeOID, alias: OBJECTID
)
-
Shape
(
type: esriFieldTypeGeometry, alias: Shape
)
-
Name
(
type: esriFieldTypeString, alias: Name, length: 200
)
-
MinPS
(
type: esriFieldTypeDouble, alias: MinPS
)
-
MaxPS
(
type: esriFieldTypeDouble, alias: MaxPS
)
-
LowPS
(
type: esriFieldTypeDouble, alias: LowPS
)
-
HighPS
(
type: esriFieldTypeDouble, alias: HighPS
)
-
Category
(
type: esriFieldTypeInteger, alias: Category
, Coded Values:
[0: Unknown]
, [1: Primary]
, [2: Overview]
, ...6 more...
)
-
Tag
(
type: esriFieldTypeString, alias: Tag, length: 100
)
-
CenterX
(
type: esriFieldTypeDouble, alias: CenterX
)
-
CenterY
(
type: esriFieldTypeDouble, alias: CenterY
)
-
ZOrder
(
type: esriFieldTypeInteger, alias: ZOrder
)
-
Shape_Length
(
type: esriFieldTypeDouble, alias: Shape_Length
)
-
Shape_Area
(
type: esriFieldTypeDouble, alias: Shape_Area
)
-
Identificador
(
type: esriFieldTypeString, alias: Identificador, length: 500
)
-
Descricion
(
type: esriFieldTypeString, alias: Descricion, length: 500
)
-
Autor
(
type: esriFieldTypeString, alias: Autor, length: 200
)
-
Url
(
type: esriFieldTypeString, alias: Url, length: 250
)
Default Mosaic Method: Northwest
Allowed Mosaic Methods: NorthWest,Center,LockRaster,ByAttribute,Nadir,Viewpoint,Seamline,None
SortField:
SortValue: null
Mosaic Operator: First
Default Compression Quality: 75
Default Resampling Method: Bilinear
Max Record Count: 1000
Max Image Height: 4100
Max Image Width: 15000
Max Download Image Count: 20
Max Mosaic Image Count: 20
Allow Raster Function: true
Allow Copy: null
Allow Analysis: null
Allow Compute TiePoints: false
Supports Statistics: true
Supports Advanced Queries: true
Use StandardizedQueries: true
Raster Type Infos:
Name: Raster Dataset
Description: Supports all ArcGIS Raster Datasets
Help:
Has Raster Attribute Table: false
Edit Fields Info: null
Ownership Based AccessControl For Rasters: null
Child Resources:
Info
Histograms
Key Properties
Legend
Raster Function Infos
Supported Operations:
Export Image
Query
Identify
Download Rasters
Compute Histograms
Compute Statistics Histograms
Get Samples
Compute Class Statistics
Query Boundary
Compute Pixel Location
Compute Angles
Validate
Project