View In:
ArcGIS JavaScript
Portal Corporativo
ArcGIS Earth
ArcMap
View Footprint In:
Portal Corporativo
Service Description: Plano da Cidade da Coruña cos seus edificios e rúas máis significativas. Ano 1900
Name: Cartoteca/Cidade_A_Coruña_1900
Description: Plano da Cidade da Coruña cos seus edificios e rúas máis significativas. Ano 1900
Single Fused Map Cache: false
Extent:
XMin: 546547.9059480682
YMin: 4799323.11369311
XMax: 550478.5777995269
YMax: 4804987.027373627
Spatial Reference: 25829
(25829)
Initial Extent:
XMin: 546547.9059480682
YMin: 4799323.11369311
XMax: 550478.5777995269
YMax: 4804987.027373627
Spatial Reference: 25829
(25829)
Full Extent:
XMin: 546547.9059480682
YMin: 4799323.11369311
XMax: 550478.5777995269
YMax: 4804987.027373627
Spatial Reference: 25829
(25829)
Pixel Size X: 1.594593043188077
Pixel Size Y: 1.4646789967719458
Band Count: 3
Pixel Type: U8
RasterFunction Infos: {"rasterFunctionInfos": [{
"name": "None",
"description": "",
"help": ""
}]}
Mensuration Capabilities: Basic
Has Histograms: false
Has Colormap: false
Has Multi Dimensions : false
Rendering Rule:
Min Scale: 0
Max Scale: 0
Copyright Text:
Service Data Type: esriImageServiceDataTypeRGB
Min Values: N/A
Max Values: N/A
Mean Values: N/A
Standard Deviation Values: N/A
Object ID Field:
Fields:
None
Default Mosaic Method: Center
Allowed Mosaic Methods:
SortField:
SortValue: null
Mosaic Operator: First
Default Compression Quality: 75
Default Resampling Method: Bilinear
Max Record Count: null
Max Image Height: 4100
Max Image Width: 15000
Max Download Image Count: null
Max Mosaic Image Count: null
Allow Raster Function: true
Allow Copy: null
Allow Analysis: null
Allow Compute TiePoints: false
Supports Statistics: false
Supports Advanced Queries: false
Use StandardizedQueries: true
Raster Type Infos:
Name: Raster Dataset
Description: Supports all ArcGIS Raster Datasets
Help:
Has Raster Attribute Table: false
Edit Fields Info: null
Ownership Based AccessControl For Rasters: null
Child Resources:
Info
Key Properties
Legend
Raster Function Infos
Supported Operations:
Export Image
Identify
Measure
Compute Histograms
Compute Statistics Histograms
Get Samples
Compute Class Statistics
Query Boundary
Compute Pixel Location
Compute Angles
Validate
Project