View In:
ArcGIS JavaScript
Portal Corporativo
ArcGIS Earth
ArcMap
View Footprint In:
Portal Corporativo
Service Description: A Colección de mapas do arquivo histórico do Reino de Galicia contén o listado e ubicación dos monumentos, elementos arqueolóxicos, monumentos románicos, barrocos e neoclásicos, fortalezas e castelos, elementos heráldicos, pallozas, horreos, crueceiros, petos de ánimas, etc rexistrados na provincia de Lugo, a ubicación, así como monumentos declarados na provincia de Pontevedra e da Coruña, e un par de planos de cartografía militar
Name: Cartoteca/ArquivoReinoGalicia
Description: A Colección de mapas do arquivo histórico do Reino de Galicia contén o listado e ubicación dos monumentos, elementos arqueolóxicos, monumentos románicos, barrocos e neoclásicos, fortalezas e castelos, elementos heráldicos, pallozas, horreos, crueceiros, petos de ánimas, etc rexistrados na provincia de Lugo, a ubicación, así como monumentos declarados na provincia de Pontevedra e da Coruña, e un par de planos de cartografía militar
Single Fused Map Cache: false
Extent:
XMin: 524748.244599374
YMin: 4663598.118946941
XMax: 690716.062216662
YMax: 4892021.901362252
Spatial Reference: 25829
(25829)
Initial Extent:
XMin: 524748.244599374
YMin: 4663598.118946941
XMax: 690716.062216662
YMax: 4892021.901362252
Spatial Reference: 25829
(25829)
Full Extent:
XMin: 524748.244599374
YMin: 4663598.118946941
XMax: 690716.062216662
YMax: 4892021.901362252
Spatial Reference: 25829
(25829)
Pixel Size X: 0.015259881826745791
Pixel Size Y: 0.015259881826745808
Band Count: 3
Pixel Type: U8
RasterFunction Infos: {"rasterFunctionInfos": [{
"name": "None",
"description": "A No-Op Function.",
"help": ""
}]}
Mensuration Capabilities: None
Has Histograms: true
Has Colormap: false
Has Multi Dimensions : false
Rendering Rule:
Min Scale: 0
Max Scale: 0
Copyright Text:
Service Data Type: esriImageServiceDataTypeRGB
Min Values: 0, 0, 0
Max Values: 255, 255, 255
Mean Values: 202.87116630195428, 201.73458019890023, 198.38184883422443
Standard Deviation Values: 69.41452528200476, 69.1663944377246, 68.44507562994887
Object ID Field: OBJECTID
Fields:
-
OBJECTID
(
type: esriFieldTypeOID, alias: OBJECTID
)
-
Shape
(
type: esriFieldTypeGeometry, alias: Shape
)
-
Name
(
type: esriFieldTypeString, alias: Name, length: 200
)
-
MinPS
(
type: esriFieldTypeDouble, alias: MinPS
)
-
MaxPS
(
type: esriFieldTypeDouble, alias: MaxPS
)
-
LowPS
(
type: esriFieldTypeDouble, alias: LowPS
)
-
HighPS
(
type: esriFieldTypeDouble, alias: HighPS
)
-
Category
(
type: esriFieldTypeInteger, alias: Category
, Coded Values:
[0: Unknown]
, [1: Primary]
, [2: Overview]
, ...6 more...
)
-
Tag
(
type: esriFieldTypeString, alias: Tag, length: 100
)
-
GroupName
(
type: esriFieldTypeString, alias: GroupName, length: 100
)
-
ProductName
(
type: esriFieldTypeString, alias: ProductName, length: 100
)
-
CenterX
(
type: esriFieldTypeDouble, alias: CenterX
)
-
CenterY
(
type: esriFieldTypeDouble, alias: CenterY
)
-
ZOrder
(
type: esriFieldTypeInteger, alias: ZOrder
)
-
Shape_Length
(
type: esriFieldTypeDouble, alias: Shape_Length
)
-
Shape_Area
(
type: esriFieldTypeDouble, alias: Shape_Area
)
-
Identificador
(
type: esriFieldTypeString, alias: Identificador, length: 50
)
-
Descricion
(
type: esriFieldTypeString, alias: Descricion, length: 500
)
Default Mosaic Method: Northwest
Allowed Mosaic Methods: NorthWest,Center,LockRaster,ByAttribute,Nadir,Viewpoint,Seamline,None
SortField:
SortValue: null
Mosaic Operator: First
Default Compression Quality: 75
Default Resampling Method: Bilinear
Max Record Count: 1000
Max Image Height: 4100
Max Image Width: 15000
Max Download Image Count: 20
Max Mosaic Image Count: 20
Allow Raster Function: true
Allow Copy: null
Allow Analysis: null
Allow Compute TiePoints: false
Supports Statistics: true
Supports Advanced Queries: true
Use StandardizedQueries: true
Raster Type Infos:
Name: Raster Dataset
Description: Supports all ArcGIS Raster Datasets
Help:
Has Raster Attribute Table: false
Edit Fields Info: null
Ownership Based AccessControl For Rasters: null
Child Resources:
Info
Histograms
Key Properties
Legend
Raster Function Infos
Supported Operations:
Export Image
Query
Identify
Download Rasters
Compute Histograms
Compute Statistics Histograms
Get Samples
Compute Class Statistics
Query Boundary
Compute Pixel Location
Compute Angles
Validate
Project