{
 "currentVersion": 10.91,
 "serviceDescription": "Servicio do mosaico de ortofotos do voo dos anos 1999 e 2000. Inclúe as ortofotos realizadas no 2020 a 50cm,e tamés as realizadas no seu día no SITGA, a 50 cm e a 1 metro.",
 "name": "Raster/OrtofotoVoo_1999_2000",
 "description": "Servicio do mosaico de ortofotos do voo dos anos 1999 e 2000. Inclúe as ortofotos realizadas no 2020 a 50cm,e tamés as realizadas no seu día no SITGA, a 50 cm e a 1 metro.",
 "extent": {
  "xmin": 472524.5,
  "ymin": 4627779.658792651,
  "xmax": 671083,
  "ymax": 4849699.158792651,
  "spatialReference": {
   "wkid": 25829,
   "latestWkid": 25829
  }
 },
 "initialExtent": {
  "xmin": 472524.5,
  "ymin": 4627779.658792651,
  "xmax": 671083,
  "ymax": 4849699.158792651,
  "spatialReference": {
   "wkid": 25829,
   "latestWkid": 25829
  }
 },
 "fullExtent": {
  "xmin": 472524.5,
  "ymin": 4627779.658792651,
  "xmax": 671083,
  "ymax": 4849699.158792651,
  "spatialReference": {
   "wkid": 25829,
   "latestWkid": 25829
  }
 },
 "pixelSizeX": 0.5,
 "pixelSizeY": 0.5,
 "bandCount": 3,
 "pixelType": "U8",
 "minPixelSize": 0.5971642835598172,
 "maxPixelSize": 4891.96981024998,
 "copyrightText": "",
 "serviceDataType": "esriImageServiceDataTypeRGB",
 "minValues": [
  0,
  0,
  0
 ],
 "maxValues": [
  255,
  255,
  255
 ],
 "meanValues": [
  106.3380140501078,
  115.80414714157816,
  103.76413430607539
 ],
 "stdvValues": [
  44.63164715173643,
  39.851999796311105,
  39.04798938088961
 ],
 "objectIdField": "OBJECTID",
 "fields": [
  {
   "name": "OBJECTID",
   "type": "esriFieldTypeOID",
   "alias": "OBJECTID",
   "domain": null
  },
  {
   "name": "Shape",
   "type": "esriFieldTypeGeometry",
   "alias": "Shape",
   "domain": null
  },
  {
   "name": "Name",
   "type": "esriFieldTypeString",
   "alias": "Name",
   "domain": null,
   "length": 200
  },
  {
   "name": "MinPS",
   "type": "esriFieldTypeDouble",
   "alias": "MinPS",
   "domain": null
  },
  {
   "name": "MaxPS",
   "type": "esriFieldTypeDouble",
   "alias": "MaxPS",
   "domain": null
  },
  {
   "name": "LowPS",
   "type": "esriFieldTypeDouble",
   "alias": "LowPS",
   "domain": null
  },
  {
   "name": "HighPS",
   "type": "esriFieldTypeDouble",
   "alias": "HighPS",
   "domain": null
  },
  {
   "name": "Category",
   "type": "esriFieldTypeInteger",
   "alias": "Category",
   "domain": {
    "type": "codedValue",
    "name": "MosaicCatalogItemCategoryDomain",
    "description": "Categorías de elementos del catálogo.",
    "codedValues": [
     {
      "name": "Unknown",
      "code": 0
     },
     {
      "name": "Primary",
      "code": 1
     },
     {
      "name": "Overview",
      "code": 2
     },
     {
      "name": "Unprocessed Overview",
      "code": 3
     },
     {
      "name": "Partial Overview",
      "code": 4
     },
     {
      "name": "Inactive",
      "code": 5
     },
     {
      "name": "Uploaded",
      "code": 253
     },
     {
      "name": "Incomplete",
      "code": 254
     },
     {
      "name": "Custom",
      "code": 255
     }
    ],
    "mergePolicy": "esriMPTDefaultValue",
    "splitPolicy": "esriSPTDefaultValue"
   }
  },
  {
   "name": "Tag",
   "type": "esriFieldTypeString",
   "alias": "Tag",
   "domain": null,
   "length": 100
  },
  {
   "name": "GroupName",
   "type": "esriFieldTypeString",
   "alias": "GroupName",
   "domain": null,
   "length": 100
  },
  {
   "name": "ProductName",
   "type": "esriFieldTypeString",
   "alias": "ProductName",
   "domain": null,
   "length": 100
  },
  {
   "name": "CenterX",
   "type": "esriFieldTypeDouble",
   "alias": "CenterX",
   "domain": null
  },
  {
   "name": "CenterY",
   "type": "esriFieldTypeDouble",
   "alias": "CenterY",
   "domain": null
  },
  {
   "name": "ZOrder",
   "type": "esriFieldTypeInteger",
   "alias": "ZOrder",
   "domain": null
  },
  {
   "name": "Thumbnail",
   "type": "esriFieldTypeBlob",
   "alias": "Thumbnail",
   "domain": null
  },
  {
   "name": "SOrder",
   "type": "esriFieldTypeInteger",
   "alias": "SOrder",
   "domain": null
  },
  {
   "name": "SLevelPS",
   "type": "esriFieldTypeDouble",
   "alias": "SLevelPS",
   "domain": null
  },
  {
   "name": "Shape_Length",
   "type": "esriFieldTypeDouble",
   "alias": "Shape_Length",
   "domain": null
  },
  {
   "name": "Shape_Area",
   "type": "esriFieldTypeDouble",
   "alias": "Shape_Area",
   "domain": null
  },
  {
   "name": "Data",
   "type": "esriFieldTypeDate",
   "alias": "Data",
   "domain": null,
   "length": 8
  }
 ],
 "capabilities": "Catalog,Download,Image,Metadata",
 "defaultMosaicMethod": "Seamline",
 "allowedMosaicMethods": "Seamline,NorthWest,Center,LockRaster,ByAttribute,Nadir,Viewpoint,None",
 "sortField": "",
 "sortValue": null,
 "sortAscending": true,
 "mosaicOperator": "First",
 "maxDownloadSizeLimit": 2048,
 "defaultCompressionQuality": 75,
 "defaultResamplingMethod": "Bilinear",
 "maxImageHeight": 4100,
 "maxImageWidth": 15000,
 "maxRecordCount": 1000,
 "maxDownloadImageCount": 20,
 "maxMosaicImageCount": 20,
 "singleFusedMapCache": true,
 "tileInfo": {
  "rows": 256,
  "cols": 256,
  "dpi": 96,
  "format": "MIXED",
  "compressionQuality": 75,
  "origin": {
   "x": -5120900,
   "y": 9998100
  },
  "spatialReference": {
   "wkid": 25829,
   "latestWkid": 25829
  },
  "lods": [
   {
    "level": 0,
    "resolution": 4891.96981024998,
    "scale": 1.8489297737236E7
   },
   {
    "level": 1,
    "resolution": 2445.98490512499,
    "scale": 9244648.868618
   },
   {
    "level": 2,
    "resolution": 1222.992452562495,
    "scale": 4622324.434309
   },
   {
    "level": 3,
    "resolution": 611.4962262813797,
    "scale": 2311162.217155
   },
   {
    "level": 4,
    "resolution": 305.74811314055756,
    "scale": 1155581.108577
   },
   {
    "level": 5,
    "resolution": 152.87405657041106,
    "scale": 577790.554289
   },
   {
    "level": 6,
    "resolution": 76.43702828507324,
    "scale": 288895.277144
   },
   {
    "level": 7,
    "resolution": 38.21851414253662,
    "scale": 144447.638572
   },
   {
    "level": 8,
    "resolution": 19.10925707126831,
    "scale": 72223.819286
   },
   {
    "level": 9,
    "resolution": 9.554628535634155,
    "scale": 36111.909643
   },
   {
    "level": 10,
    "resolution": 4.77731426794937,
    "scale": 18055.954822
   },
   {
    "level": 11,
    "resolution": 2.388657141912201,
    "scale": 9027.977441
   },
   {
    "level": 12,
    "resolution": 1.1943285668550503,
    "scale": 4513.988705
   },
   {
    "level": 13,
    "resolution": 0.5971642835598172,
    "scale": 2256.994353
   }
  ]
 },
 "cacheType": "Map",
 "allowRasterFunction": true,
 "rasterFunctionInfos": [
  {
   "name": "None",
   "description": "A No-Op Function.",
   "help": ""
  }
 ],
 "rasterTypeInfos": [
  {
   "name": "Raster Dataset",
   "description": "Supports all ArcGIS Raster Datasets",
   "help": ""
  }
 ],
 "mensurationCapabilities": "None",
 "hasHistograms": true,
 "hasColormap": false,
 "hasRasterAttributeTable": false,
 "minScale": 1.8489297737236E7,
 "maxScale": 2256.994353,
 "exportTilesAllowed": false,
 "hasMultidimensions": false,
 "supportsStatistics": true,
 "supportsAdvancedQueries": true,
 "editFieldsInfo": null,
 "ownershipBasedAccessControlForRasters": null,
 "allowComputeTiePoints": false,
 "useStandardizedQueries": true,
 "advancedQueryCapabilities": {
  "useStandardizedQueries": true,
  "supportsStatistics": true,
  "supportsOrderBy": true,
  "supportsDistinct": true,
  "supportsPagination": true
 },
 "spatialReference": {
  "wkid": 25829,
  "latestWkid": 25829
 }
}
