{
 "currentVersion": 10.91,
 "serviceDescription": "Mapa Base das ortofotografías do PNOA 2008 (Coruña e Pontevedra) e PNOA 2009 (Lugo e Ourense)",
 "mapName": "Capas",
 "description": "",
 "copyrightText": "",
 "supportsDynamicLayers": false,
 "layers": [
  {
   "id": 0,
   "name": "mascara_miño.tif",
   "parentLayerId": -1,
   "defaultVisibility": true,
   "subLayerIds": null,
   "minScale": 150000,
   "maxScale": 0,
   "type": "Raster Layer"
  },
  {
   "id": 1,
   "name": "mascara_ribadeo.tif",
   "parentLayerId": -1,
   "defaultVisibility": true,
   "subLayerIds": null,
   "minScale": 150000,
   "maxScale": 0,
   "type": "Raster Layer"
  },
  {
   "id": 2,
   "name": "Satelite_exterior_detalle.tif",
   "parentLayerId": -1,
   "defaultVisibility": true,
   "subLayerIds": null,
   "minScale": 150000,
   "maxScale": 0,
   "type": "Raster Layer"
  },
  {
   "id": 3,
   "name": "PNOA_2008_2009",
   "parentLayerId": -1,
   "defaultVisibility": true,
   "subLayerIds": [
    4,
    5,
    6
   ],
   "minScale": 150000,
   "maxScale": 0,
   "type": "Mosaic Layer"
  },
  {
   "id": 4,
   "name": "Boundary",
   "parentLayerId": 3,
   "defaultVisibility": false,
   "subLayerIds": null,
   "minScale": 0,
   "maxScale": 0,
   "type": "Feature Layer",
   "geometryType": "esriGeometryPolygon"
  },
  {
   "id": 5,
   "name": "Footprint",
   "parentLayerId": 3,
   "defaultVisibility": false,
   "subLayerIds": null,
   "minScale": 0,
   "maxScale": 0,
   "type": "Feature Layer",
   "geometryType": "esriGeometryPolygon"
  },
  {
   "id": 6,
   "name": "Image",
   "parentLayerId": 3,
   "defaultVisibility": true,
   "subLayerIds": null,
   "minScale": 0,
   "maxScale": 0,
   "type": "Raster Layer"
  },
  {
   "id": 7,
   "name": "Batimetria_detalle",
   "parentLayerId": -1,
   "defaultVisibility": true,
   "subLayerIds": null,
   "minScale": 150000,
   "maxScale": 0,
   "type": "Feature Layer",
   "geometryType": "esriGeometryPolygon"
  },
  {
   "id": 8,
   "name": "Batimetria_general",
   "parentLayerId": -1,
   "defaultVisibility": true,
   "subLayerIds": null,
   "minScale": 0,
   "maxScale": 150000,
   "type": "Feature Layer",
   "geometryType": "esriGeometryPolygon"
  },
  {
   "id": 9,
   "name": "Batimetria_general_mascara",
   "parentLayerId": -1,
   "defaultVisibility": true,
   "subLayerIds": null,
   "minScale": 0,
   "maxScale": 150000,
   "type": "Feature Layer",
   "geometryType": "esriGeometryPolygon"
  },
  {
   "id": 10,
   "name": "Satelite_exterior_general.tif",
   "parentLayerId": -1,
   "defaultVisibility": true,
   "subLayerIds": null,
   "minScale": 0,
   "maxScale": 150000,
   "type": "Raster Layer"
  },
  {
   "id": 11,
   "name": "LandsatMosaico_Xuno2015",
   "parentLayerId": -1,
   "defaultVisibility": true,
   "subLayerIds": [
    12,
    13,
    14
   ],
   "minScale": 0,
   "maxScale": 150000,
   "type": "Mosaic Layer"
  },
  {
   "id": 12,
   "name": "Boundary",
   "parentLayerId": 11,
   "defaultVisibility": false,
   "subLayerIds": null,
   "minScale": 0,
   "maxScale": 0,
   "type": "Feature Layer",
   "geometryType": "esriGeometryPolygon"
  },
  {
   "id": 13,
   "name": "Footprint",
   "parentLayerId": 11,
   "defaultVisibility": false,
   "subLayerIds": null,
   "minScale": 0,
   "maxScale": 0,
   "type": "Feature Layer",
   "geometryType": "esriGeometryPolygon"
  },
  {
   "id": 14,
   "name": "Image",
   "parentLayerId": 11,
   "defaultVisibility": true,
   "subLayerIds": null,
   "minScale": 0,
   "maxScale": 0,
   "type": "Raster Layer"
  }
 ],
 "tables": [],
 "spatialReference": {
  "wkid": 25829,
  "latestWkid": 25829
 },
 "singleFusedMapCache": true,
 "tileInfo": {
  "rows": 256,
  "cols": 256,
  "dpi": 96,
  "format": "JPEG",
  "compressionQuality": 75,
  "origin": {
   "x": -5120900,
   "y": 9998100
  },
  "spatialReference": {
   "wkid": 25829,
   "latestWkid": 25829
  },
  "lods": [
   {
    "level": 0,
    "resolution": 4891.96981024998,
    "scale": 1.8489297737236E7
   },
   {
    "level": 1,
    "resolution": 2445.98490512499,
    "scale": 9244648.868618
   },
   {
    "level": 2,
    "resolution": 1222.992452562495,
    "scale": 4622324.434309
   },
   {
    "level": 3,
    "resolution": 611.4962262813797,
    "scale": 2311162.217155
   },
   {
    "level": 4,
    "resolution": 305.74811314055756,
    "scale": 1155581.108577
   },
   {
    "level": 5,
    "resolution": 152.87405657041106,
    "scale": 577790.554289
   },
   {
    "level": 6,
    "resolution": 76.43702828507324,
    "scale": 288895.277144
   },
   {
    "level": 7,
    "resolution": 38.21851414253662,
    "scale": 144447.638572
   },
   {
    "level": 8,
    "resolution": 19.10925707126831,
    "scale": 72223.819286
   },
   {
    "level": 9,
    "resolution": 9.554628535634155,
    "scale": 36111.909643
   },
   {
    "level": 10,
    "resolution": 4.77731426794937,
    "scale": 18055.954822
   },
   {
    "level": 11,
    "resolution": 2.388657141912201,
    "scale": 9027.977441
   },
   {
    "level": 12,
    "resolution": 1.1943285668550503,
    "scale": 4513.988705
   },
   {
    "level": 13,
    "resolution": 0.5971642835598172,
    "scale": 2256.994353
   }
  ]
 },
 "initialExtent": {
  "xmin": 291000,
  "ymin": 4489259.770710061,
  "xmax": 868605.0000000019,
  "ymax": 4966040.229289944,
  "spatialReference": {
   "wkid": 25829,
   "latestWkid": 25829
  }
 },
 "fullExtent": {
  "xmin": 291000,
  "ymin": 4569700.000000002,
  "xmax": 868605.0000000019,
  "ymax": 4885600.000000002,
  "spatialReference": {
   "wkid": 25829,
   "latestWkid": 25829
  }
 },
 "minScale": 1.8489297737236E7,
 "maxScale": 2256.994353,
 "units": "esriMeters",
 "supportedImageFormatTypes": "PNG32,PNG24,PNG,JPG,DIB,TIFF,EMF,PS,PDF,GIF,SVG,SVGZ,BMP",
 "documentInfo": {
  "Title": "",
  "Author": "",
  "Comments": "Mapa Base Ortofotos PNOA 2004-2005 (Coruña e Pontevedra) e PNOA 2006-2007 (Lugo e Ourense)",
  "Subject": "Mapa Base Ortofotos PNOA 2004-2005 (Co-Po) e PNOA 2006-2007 (Lu-Ou)",
  "Category": "",
  "AntialiasingMode": "None",
  "TextAntialiasingMode": "Force",
  "Keywords": "mapa base,ortofotografia,PNOA"
 },
 "capabilities": "Map,Query,Data",
 "supportedQueryFormats": "JSON, geoJSON",
 "exportTilesAllowed": false,
 "referenceScale": 0,
 "datumTransformations": [
  {
   "geoTransforms": [
    {
     "wkid": 1149,
     "latestWkid": 1149,
     "transformForward": true,
     "name": "ETRS_1989_To_WGS_1984"
    }
   ]
  },
  {
   "geoTransforms": [
    {
     "wkid": 1149,
     "latestWkid": 1149,
     "transformForward": false,
     "name": "ETRS_1989_To_WGS_1984"
    }
   ]
  },
  {
   "geoTransforms": [
    {
     "wkid": 108126,
     "latestWkid": 108126,
     "transformForward": true,
     "name": "ED_1950_To_ETRS_1989_NTv2_Peninsula"
    }
   ]
  },
  {
   "geoTransforms": [
    {
     "wkid": 108126,
     "latestWkid": 108126,
     "transformForward": false,
     "name": "ED_1950_To_ETRS_1989_NTv2_Peninsula"
    }
   ]
  }
 ],
 "supportsDatumTransformation": true,
 "maxRecordCount": 1000,
 "maxImageHeight": 4096,
 "maxImageWidth": 4096,
 "supportedExtensions": ""
}
