{
 "currentVersion": 10.91,
 "serviceDescription": "Unidades Ambientais do Plan Director da Rede Natura 2000",
 "mapName": "Layers",
 "description": "",
 "copyrightText": "",
 "supportsDynamicLayers": false,
 "layers": [
  {
   "id": 0,
   "name": "Unidades Ambientais PD_RN2000",
   "parentLayerId": -1,
   "defaultVisibility": true,
   "subLayerIds": null,
   "minScale": 80000,
   "maxScale": 0,
   "type": "Feature Layer",
   "geometryType": "esriGeometryPolygon"
  }
 ],
 "tables": [],
 "spatialReference": {
  "wkid": 25829,
  "latestWkid": 25829
 },
 "singleFusedMapCache": true,
 "tileInfo": {
  "rows": 256,
  "cols": 256,
  "dpi": 96,
  "format": "PNG",
  "compressionQuality": 0,
  "origin": {
   "x": -5120900,
   "y": 9998100
  },
  "spatialReference": {
   "wkid": 25829,
   "latestWkid": 25829
  },
  "lods": [
   {
    "level": 0,
    "resolution": 4891.96981024998,
    "scale": 1.8489297737236E7
   },
   {
    "level": 1,
    "resolution": 2445.98490512499,
    "scale": 9244648.868618
   },
   {
    "level": 2,
    "resolution": 1222.992452562495,
    "scale": 4622324.434309
   },
   {
    "level": 3,
    "resolution": 611.4962262813797,
    "scale": 2311162.217155
   },
   {
    "level": 4,
    "resolution": 305.74811314055756,
    "scale": 1155581.108577
   },
   {
    "level": 5,
    "resolution": 152.87405657041106,
    "scale": 577790.554289
   },
   {
    "level": 6,
    "resolution": 76.43702828507324,
    "scale": 288895.277144
   },
   {
    "level": 7,
    "resolution": 38.21851414253662,
    "scale": 144447.638572
   },
   {
    "level": 8,
    "resolution": 19.10925707126831,
    "scale": 72223.819286
   },
   {
    "level": 9,
    "resolution": 9.554628535634155,
    "scale": 36111.909643
   },
   {
    "level": 10,
    "resolution": 4.77731426794937,
    "scale": 18055.954822
   },
   {
    "level": 11,
    "resolution": 2.388657141912201,
    "scale": 9027.977441
   },
   {
    "level": 12,
    "resolution": 1.1943285668550503,
    "scale": 4513.988705
   },
   {
    "level": 13,
    "resolution": 0.5971642835598172,
    "scale": 2256.994353
   }
  ]
 },
 "initialExtent": {
  "xmin": 471121.15935119777,
  "ymin": 4745198.550758837,
  "xmax": 487348.7438063668,
  "ymax": 4759230.046821829,
  "spatialReference": {
   "wkid": 25829,
   "latestWkid": 25829
  }
 },
 "fullExtent": {
  "xmin": 473106.0704,
  "ymin": 4627260.1437,
  "xmax": 686676.0483,
  "ymax": 4850937.1834,
  "spatialReference": {
   "wkid": 25829,
   "latestWkid": 25829
  }
 },
 "minScale": 72223.819286,
 "maxScale": 2256.994353,
 "units": "esriMeters",
 "supportedImageFormatTypes": "PNG32,PNG24,PNG,JPG,DIB,TIFF,EMF,PS,PDF,GIF,SVG,SVGZ,BMP",
 "documentInfo": {
  "Title": "",
  "Author": "",
  "Comments": "Unidades Ambientais do Plan Director da Rede Natura 2000",
  "Subject": "Unidades Ambientais. Rede Natura 2000",
  "Category": "",
  "AntialiasingMode": "None",
  "TextAntialiasingMode": "Force",
  "Keywords": "Unidades Ambientais. Rede Natura 2000. Galicia"
 },
 "capabilities": "Map,Query,Data",
 "supportedQueryFormats": "JSON, geoJSON",
 "exportTilesAllowed": false,
 "referenceScale": 0,
 "supportsDatumTransformation": true,
 "maxRecordCount": 1000,
 "maxImageHeight": 4096,
 "maxImageWidth": 4096,
 "supportedExtensions": "",
 "resampling": false
}
