{
 "currentVersion": 10.91,
 "serviceDescription": "SIAVA/MSA_SA_Stack_Clip_COG_tif",
 "name": "SIAVA/MSA_SA_Stack_Clip_COG_tif",
 "description": "",
 "extent": {
  "xmin": 475453,
  "ymin": 4628866,
  "xmax": 686703,
  "ymax": 4849646,
  "spatialReference": {
   "wkid": 25829,
   "latestWkid": 25829
  }
 },
 "initialExtent": {
  "xmin": 475453,
  "ymin": 4628866,
  "xmax": 686703,
  "ymax": 4849646,
  "spatialReference": {
   "wkid": 25829,
   "latestWkid": 25829
  }
 },
 "fullExtent": {
  "xmin": 475453,
  "ymin": 4628866,
  "xmax": 686703,
  "ymax": 4849646,
  "spatialReference": {
   "wkid": 25829,
   "latestWkid": 25829
  }
 },
 "hasMultidimensions": false,
 "pixelSizeX": 10,
 "pixelSizeY": 10,
 "datasetFormat": "TIFF",
 "uncompressedSize": 13059137000,
 "blockWidth": 512,
 "blockHeight": 512,
 "compressionType": "DEFLATE",
 "bandNames": [
  "MSA_Solar_Autoconsumo",
  "iesa_bio_sp",
  "iesa_au",
  "iesa_pc",
  "iesa_bio_hab",
  "ipsa_pc",
  "ipsa_lit",
  "ipsa_psx",
  "ipsa_enp",
  "ipsa_bio_hab",
  "ipsa_au",
  "ipsa_solo",
  "ipsa_bio_sp",
  "ipsa_agrofor"
 ],
 "allowCopy": true,
 "allowAnalysis": true,
 "bandCount": 14,
 "noDataValue": -99,
 "noDataValues": [
  -99,
  -99,
  -99,
  -99,
  -99,
  -99,
  -99,
  -99,
  -99,
  -99,
  -99,
  -99,
  -99,
  -99
 ],
 "pixelType": "S16",
 "minPixelSize": 0,
 "maxPixelSize": 0,
 "copyrightText": "",
 "serviceDataType": "esriImageServiceDataTypeGeneric",
 "serviceSourceType": "esriImageServiceSourceTypeDataset",
 "minValues": [],
 "maxValues": [],
 "meanValues": [],
 "stdvValues": [],
 "objectIdField": "",
 "fields": [],
 "capabilities": "Image,Metadata,Mensuration",
 "defaultMosaicMethod": "Center",
 "allowedMosaicMethods": "",
 "sortField": "",
 "sortValue": null,
 "sortAscending": true,
 "mosaicOperator": "First",
 "defaultCompressionQuality": 75,
 "defaultResamplingMethod": "Bilinear",
 "maxImageHeight": 4100,
 "maxImageWidth": 15000,
 "allowRasterFunction": true,
 "rasterFunctionInfos": [
  {
   "name": "None",
   "description": "",
   "help": ""
  }
 ],
 "rasterTypeInfos": [
  {
   "name": "Raster Dataset",
   "description": "Supports all ArcGIS Raster Datasets",
   "help": ""
  }
 ],
 "mensurationCapabilities": "Basic",
 "hasHistograms": false,
 "hasColormap": false,
 "hasRasterAttributeTable": false,
 "minScale": 0,
 "maxScale": 0,
 "exportTilesAllowed": false,
 "supportsStatistics": false,
 "supportsAdvancedQueries": false,
 "editFieldsInfo": null,
 "ownershipBasedAccessControlForRasters": null,
 "allowComputeTiePoints": false,
 "useStandardizedQueries": true,
 "advancedQueryCapabilities": {
  "useStandardizedQueries": true,
  "supportsStatistics": false,
  "supportsOrderBy": false,
  "supportsDistinct": false,
  "supportsPagination": false
 },
 "spatialReference": {
  "wkid": 25829,
  "latestWkid": 25829
 }
}
