{
 "currentVersion": 10.91,
 "serviceDescription": "LEVANTAMENTO FOTOGRAMÉTRICO A ESCALA 1:10.000\nProxección U.T.M.- Elipsoide Internacional-USO 29-Datum PostDam.\nPosterior transformación a U.T.M. sistema etrs89, epsg 25829\nAltitudes referidas ao nivel do mar en Alancante, Coordenadas rectangulares U.T.M.\nA confección cartográfica foi realizada con voo entre os anos 1980 e 1993 a escala 1:25.000 supervisado polos servizos técnicos do departamento dependente da Consellería de Ordenación do Territorio da Xunta de Galicia",
 "name": "Cartoteca/MapaTopograficoXunta10k_1980_1993",
 "description": "LEVANTAMENTO FOTOGRAMÉTRICO A ESCALA 1:10.000\nProxección U.T.M.- Elipsoide Internacional-USO 29-Datum PostDam.\nPosterior transformación a U.T.M. sistema etrs89, epsg 25829\nAltitudes referidas ao nivel do mar en Alancante, Coordenadas rectangulares U.T.M.\nA confección cartográfica foi realizada con voo entre os anos 1980 e 1993 a escala 1:25.000 supervisado polos servizos técnicos do departamento dependente da Consellería de Ordenación do Territorio da Xunta de Galicia",
 "extent": {
  "xmin": 471065.06730172597,
  "ymin": 4626978.608765051,
  "xmax": 690746.7835326353,
  "ymax": 4849691.569163244,
  "spatialReference": {
   "wkid": 25829,
   "latestWkid": 25829
  }
 },
 "initialExtent": {
  "xmin": 471065.06730172597,
  "ymin": 4626978.608765051,
  "xmax": 690746.7835326353,
  "ymax": 4849691.569163244,
  "spatialReference": {
   "wkid": 25829,
   "latestWkid": 25829
  }
 },
 "fullExtent": {
  "xmin": 471065.06730172597,
  "ymin": 4626978.608765051,
  "xmax": 690746.7835326353,
  "ymax": 4849691.569163244,
  "spatialReference": {
   "wkid": 25829,
   "latestWkid": 25829
  }
 },
 "pixelSizeX": 0.8307054445831733,
 "pixelSizeY": 0.8307054445831736,
 "bandCount": 3,
 "pixelType": "U8",
 "minPixelSize": 0,
 "maxPixelSize": 0,
 "copyrightText": "",
 "serviceDataType": "esriImageServiceDataTypeRGB",
 "minValues": [
  50,
  114,
  119
 ],
 "maxValues": [
  252,
  255,
  255
 ],
 "meanValues": [
  199.0604777815059,
  205.82725132818706,
  197.8605618597989
 ],
 "stdvValues": [
  11.474572270182309,
  12.859793179702098,
  12.776196216475165
 ],
 "objectIdField": "OBJECTID",
 "fields": [
  {
   "name": "OBJECTID",
   "type": "esriFieldTypeOID",
   "alias": "OBJECTID",
   "domain": null
  },
  {
   "name": "Shape",
   "type": "esriFieldTypeGeometry",
   "alias": "Shape",
   "domain": null
  },
  {
   "name": "Name",
   "type": "esriFieldTypeString",
   "alias": "Name",
   "domain": null,
   "length": 200
  },
  {
   "name": "Category",
   "type": "esriFieldTypeInteger",
   "alias": "Category",
   "domain": {
    "type": "codedValue",
    "name": "MosaicCatalogItemCategoryDomain",
    "description": "Catalog item categories.",
    "codedValues": [
     {
      "name": "Unknown",
      "code": 0
     },
     {
      "name": "Primary",
      "code": 1
     },
     {
      "name": "Overview",
      "code": 2
     },
     {
      "name": "Unprocessed Overview",
      "code": 3
     },
     {
      "name": "Partial Overview",
      "code": 4
     },
     {
      "name": "Inactive",
      "code": 5
     },
     {
      "name": "Uploaded",
      "code": 253
     },
     {
      "name": "Incomplete",
      "code": 254
     },
     {
      "name": "Custom",
      "code": 255
     }
    ],
    "mergePolicy": "esriMPTDefaultValue",
    "splitPolicy": "esriSPTDefaultValue"
   }
  },
  {
   "name": "CenterX",
   "type": "esriFieldTypeDouble",
   "alias": "CenterX",
   "domain": null
  },
  {
   "name": "CenterY",
   "type": "esriFieldTypeDouble",
   "alias": "CenterY",
   "domain": null
  },
  {
   "name": "ZOrder",
   "type": "esriFieldTypeInteger",
   "alias": "ZOrder",
   "domain": null
  },
  {
   "name": "Shape_Length",
   "type": "esriFieldTypeDouble",
   "alias": "Shape_Length",
   "domain": null
  },
  {
   "name": "Shape_Area",
   "type": "esriFieldTypeDouble",
   "alias": "Shape_Area",
   "domain": null
  },
  {
   "name": "Descricion",
   "type": "esriFieldTypeString",
   "alias": "Descricion",
   "domain": null,
   "length": 500
  },
  {
   "name": "Concellos_Cobertura",
   "type": "esriFieldTypeString",
   "alias": "Concellos_Cobertura",
   "domain": null,
   "length": 255
  },
  {
   "name": "Ano_Voo",
   "type": "esriFieldTypeString",
   "alias": "Ano_Voo",
   "domain": null,
   "length": 80
  }
 ],
 "capabilities": "Catalog,Mensuration,Download,Image,Metadata",
 "defaultMosaicMethod": "Northwest",
 "allowedMosaicMethods": "NorthWest,Center,LockRaster,ByAttribute,Nadir,Viewpoint,Seamline,None",
 "sortField": "",
 "sortValue": null,
 "sortAscending": true,
 "mosaicOperator": "First",
 "maxDownloadSizeLimit": 2048,
 "defaultCompressionQuality": 75,
 "defaultResamplingMethod": "Bilinear",
 "maxImageHeight": 4100,
 "maxImageWidth": 15000,
 "maxRecordCount": 1100,
 "maxDownloadImageCount": 20,
 "maxMosaicImageCount": 20,
 "allowRasterFunction": true,
 "rasterFunctionInfos": [
  {
   "name": "None",
   "description": "A No-Op Function.",
   "help": ""
  }
 ],
 "rasterTypeInfos": [
  {
   "name": "Raster Dataset",
   "description": "Supports all ArcGIS Raster Datasets",
   "help": ""
  }
 ],
 "mensurationCapabilities": "Basic",
 "hasHistograms": true,
 "hasColormap": false,
 "hasRasterAttributeTable": false,
 "minScale": 0,
 "maxScale": 0,
 "exportTilesAllowed": false,
 "hasMultidimensions": false,
 "supportsStatistics": true,
 "supportsAdvancedQueries": true,
 "editFieldsInfo": null,
 "ownershipBasedAccessControlForRasters": null,
 "allowComputeTiePoints": false,
 "useStandardizedQueries": true,
 "advancedQueryCapabilities": {
  "useStandardizedQueries": true,
  "supportsStatistics": true,
  "supportsOrderBy": true,
  "supportsDistinct": true,
  "supportsPagination": true
 },
 "spatialReference": {
  "wkid": 25829,
  "latestWkid": 25829
 }
}
