{
 "currentVersion": 10.91,
 "serviceDescription": "Colección da cartografía histórica de Galiciana Biblioteca Dixital de Galicia",
 "name": "Cartoteca/GalicianaBibliotecaDixital",
 "description": "Colección da cartografía histórica de Galiciana Biblioteca Dixital de Galicia",
 "extent": {
  "xmin": -1789026.6605233205,
  "ymin": -0.0012291446328163147,
  "xmax": 2373820.0344766797,
  "ymax": 6236092.963770855,
  "spatialReference": {
   "wkid": 25829,
   "latestWkid": 25829
  }
 },
 "initialExtent": {
  "xmin": -1789026.6605233205,
  "ymin": -0.0012291446328163147,
  "xmax": 2373820.0344766797,
  "ymax": 6236092.963770855,
  "spatialReference": {
   "wkid": 25829,
   "latestWkid": 25829
  }
 },
 "fullExtent": {
  "xmin": -1789026.6605233205,
  "ymin": -0.0012291446328163147,
  "xmax": 2373820.0344766797,
  "ymax": 6236092.963770855,
  "spatialReference": {
   "wkid": 25829,
   "latestWkid": 25829
  }
 },
 "pixelSizeX": 0.005,
 "pixelSizeY": 0.005,
 "bandCount": 3,
 "pixelType": "U8",
 "minPixelSize": 0,
 "maxPixelSize": 0,
 "copyrightText": "",
 "serviceDataType": "esriImageServiceDataTypeRGB",
 "minValues": [],
 "maxValues": [],
 "meanValues": [],
 "stdvValues": [],
 "objectIdField": "OBJECTID",
 "fields": [
  {
   "name": "OBJECTID",
   "type": "esriFieldTypeOID",
   "alias": "OBJECTID",
   "domain": null
  },
  {
   "name": "Shape",
   "type": "esriFieldTypeGeometry",
   "alias": "Shape",
   "domain": null
  },
  {
   "name": "Name",
   "type": "esriFieldTypeString",
   "alias": "Name",
   "domain": null,
   "length": 200
  },
  {
   "name": "Category",
   "type": "esriFieldTypeInteger",
   "alias": "Category",
   "domain": {
    "type": "codedValue",
    "name": "MosaicCatalogItemCategoryDomain",
    "description": "Catalog item categories.",
    "codedValues": [
     {
      "name": "Unknown",
      "code": 0
     },
     {
      "name": "Primary",
      "code": 1
     },
     {
      "name": "Overview",
      "code": 2
     },
     {
      "name": "Unprocessed Overview",
      "code": 3
     },
     {
      "name": "Partial Overview",
      "code": 4
     },
     {
      "name": "Inactive",
      "code": 5
     },
     {
      "name": "Uploaded",
      "code": 253
     },
     {
      "name": "Incomplete",
      "code": 254
     },
     {
      "name": "Custom",
      "code": 255
     }
    ],
    "mergePolicy": "esriMPTDefaultValue",
    "splitPolicy": "esriSPTDefaultValue"
   }
  },
  {
   "name": "CenterX",
   "type": "esriFieldTypeDouble",
   "alias": "CenterX",
   "domain": null
  },
  {
   "name": "CenterY",
   "type": "esriFieldTypeDouble",
   "alias": "CenterY",
   "domain": null
  },
  {
   "name": "Shape_Length",
   "type": "esriFieldTypeDouble",
   "alias": "Shape_Length",
   "domain": null
  },
  {
   "name": "Shape_Area",
   "type": "esriFieldTypeDouble",
   "alias": "Shape_Area",
   "domain": null
  },
  {
   "name": "NomeArquivoOrixinal_1",
   "type": "esriFieldTypeString",
   "alias": "NomeArquivoOrixinal",
   "domain": null,
   "length": 254
  },
  {
   "name": "Descricion",
   "type": "esriFieldTypeString",
   "alias": "Descricion",
   "domain": null,
   "length": 500
  },
  {
   "name": "Url",
   "type": "esriFieldTypeString",
   "alias": "Url",
   "domain": null,
   "length": 200
  },
  {
   "name": "NomeExt",
   "type": "esriFieldTypeString",
   "alias": "NomeExt",
   "domain": null,
   "length": 50
  }
 ],
 "capabilities": "Catalog,Download,Image,Mensuration,Metadata",
 "defaultMosaicMethod": "Northwest",
 "allowedMosaicMethods": "NorthWest,Center,LockRaster,ByAttribute,Nadir,Viewpoint,Seamline,None",
 "sortField": "",
 "sortValue": null,
 "sortAscending": true,
 "mosaicOperator": "First",
 "maxDownloadSizeLimit": 2048,
 "defaultCompressionQuality": 75,
 "defaultResamplingMethod": "Bilinear",
 "maxImageHeight": 4100,
 "maxImageWidth": 15000,
 "maxRecordCount": 1000,
 "maxDownloadImageCount": 20,
 "maxMosaicImageCount": 20,
 "allowRasterFunction": true,
 "rasterFunctionInfos": [
  {
   "name": "None",
   "description": "",
   "help": ""
  }
 ],
 "rasterTypeInfos": [
  {
   "name": "Raster Dataset",
   "description": "Supports all ArcGIS Raster Datasets",
   "help": ""
  }
 ],
 "mensurationCapabilities": "Basic",
 "hasHistograms": false,
 "hasColormap": false,
 "hasRasterAttributeTable": false,
 "minScale": 0,
 "maxScale": 0,
 "exportTilesAllowed": false,
 "hasMultidimensions": false,
 "supportsStatistics": true,
 "supportsAdvancedQueries": true,
 "editFieldsInfo": null,
 "ownershipBasedAccessControlForRasters": null,
 "allowComputeTiePoints": false,
 "useStandardizedQueries": true,
 "advancedQueryCapabilities": {
  "useStandardizedQueries": true,
  "supportsStatistics": true,
  "supportsOrderBy": true,
  "supportsDistinct": true,
  "supportsPagination": true
 },
 "spatialReference": {
  "wkid": 25829,
  "latestWkid": 25829
 }
}
