View In:
ArcGIS JavaScript
Portal Corporativo
ArcGIS Earth
ArcMap
ArcGIS Pro
View Footprint In:
Portal Corporativo
Service Description: Web Map Service (WMS) no que se amosan as cuadrículas cartográficas de Galicia
Map Name: Capas
Legend
All Layers and Tables
Layers:
Description:
Copyright Text:
Spatial Reference:
25829
(25829)
Single Fused Map Cache: true
Tile Info:
- Height: 256
- Width: 256
- DPI: 96
-
Levels of Detail: 14
-
Level ID: 0
[ Start Tile, End Tile ]
- Resolution: 4891.96981024998
- Scale: 1.8489297737236E7
- Format: PNG
- Compression Quality: 0.0
- Origin: X: -5120900.0
Y: 9998100.0
- Spatial Reference: 25829
(25829)
Initial Extent:
XMin: 445011.74471999996
YMin: 4485842.726144012
XMax: 718282.1680800001
YMax: 4982202.177755989
Spatial Reference: 25829
(25829)
Full Extent:
XMin: 457433.1276
YMin: 4613086.5269
XMax: 705860.7852
YMax: 4854958.377
Spatial Reference: 25829
(25829)
Units: esriMeters
Supported Image Format Types: PNG32,PNG24,PNG,JPG,DIB,TIFF,EMF,PS,PDF,GIF,SVG,SVGZ,BMP
Document Info:
Title:
Author:
Comments: Web Map Service (WMS) no que se amosan as cuadrículas cartográficas de Galicia
Subject: Web Map Service (WMS) no que se amosan as cuadrículas cartográficas de Galicia
Category:
Keywords: cuadrículas cartográficas de Galicia
AntialiasingMode: None
TextAntialiasingMode: Force
Supports Dynamic Layers: false
Resampling: false
MaxRecordCount: 1000
MaxImageHeight: 4096
MaxImageWidth: 4096
Supported Query Formats: JSON, geoJSON
Supports Query Data Elements:
Min Scale: 1.8489297737236E7
Max Scale: 2256.994353
Supports Datum Transformation: true
Child Resources:
Info
Supported Operations:
Export Map
Identify
QueryLegends
QueryDomains
Find
Return Updates
Generate KML